Workbook

Sheet Kompetenzraster
A1: Sachkompetenz | B1: umfassendes Wissen zeigen / anwenden | C1: Resultate beurteilen und Inhalte wichten | D1: sprachlich klar darstellen | E1: Fachbegriffe korrekt verwenden | F1: Transfer / Zusammenhänge herstellen | G1: Summe | H1: Prozent- verteilung
A2: mögliche Punkte | B2: 10 | C2: 10 | D2: 10 | E2: 10 | F2: 10 | G2: =SUM(B2:F2) -> 50 | H2: =G2/G13 -> 0.25
A3: erreichte Punkte | G3: =SUM(B3:F3) -> 0 | H3: =G3/G13 -> 0
A4: Methodenkompetenz | B4: Arbeitsschritte planen / Was? Wer? Wann? | C4: Informationen / Hilfsmittel effektiv nutzen | D4: Erkenntnisse / Lösungswege strukturieren | E4: Planung / Arbeitstechniken realisieren | F4: Ergebnisse übersichtlich präsentieren
A5: mögliche Punkte | B5: 10 | C5: 10 | D5: 10 | E5: 10 | F5: 10 | G5: =SUM(B5:F5) -> 50 | H5: =G5/G13 -> 0.25
A6: erreichte Punkte | G6: =SUM(B6:F6) -> 0 | H6: =G6/G13 -> 0
A7: Selbstkompetenz | B7: bereit sein, sich selbst Ziele zu setzen | C7: zielstrebig und ausdauernd arbeiten | D7: sorgfältig arbeiten | E7: Selbstkontrolle praktizieren / auf Fragen reagieren | F7: Engagement zeigen
A8: mögliche Punkte | B8: 10 | C8: 10 | D8: 10 | E8: 10 | F8: 10 | G8: =SUM(B8:F8) -> 50 | H8: =G8/G13 -> 0.25
A9: erreichte Punkte | G9: =SUM(B9:F9) -> 0 | H9: =G9/G13 -> 0
A10: Sozialkompetenz | B10: mit anderen gemeinsam arbeiten | C10: Verantwortung übernehmen | D10: kompromissbereit sein | E10: Selbstvertrauen zeigen / Durchsetzungsvermögen beweisen | F10: Rücksicht nehmen / Hilfe leisten
A11: mögliche Punkte | B11: 10 | C11: 10 | D11: 10 | E11: 10 | F11: 10 | G11: =SUM(B11:F11) -> 50 | H11: =G11/G13 -> 0.25
A12: erreichte Punkte | G12: =SUM(B12:F12) -> 0 | H12: =G12/G13 -> 0
A13: mögliche Punkte gesamt | G13: =SUM(G2,G5,G8,G11) -> 200 | H13: =H11+H8+H5+H2 -> 1
A14: erreichte Punkte gesamt | G14: =SUM(G3,G6,G9,G12) -> 0 | H14: =G14/G13 -> 0
F15: Zensur: | H15: =VLOOKUP(H14,Bewertungsmatrix!A2:C7, 2, 1) -> 6

Sheet Eigen- und Gruppenbewertung
B1: Eigen- und Gruppenbewertung | C1: 0 bis 5 Punkte | D1: 0 Punkte = keine Leistung | E1: 5 Punkte = volle Leistung
B2: Name / Teammitglied | C2: Kooperation / Unterstützung - Verhalten in der Gruppe | D2: Arbeitsverhalten | E2: Problemlösefähigkeit / Engagement - Zuverlässigkeit | F2: Einbringen von Ideen und/oder Material | G2: Summe | H2: Prozent | I2: Zensur
A3: 1 | B3: Name 1 | G3: =SUM(C3:F3) -> 0 | H3: =G3/20 -> 0 | I3: =VLOOKUP(H3,Bewertungsmatrix!A2:C7, 2, 1) -> 6
A4: 2 | B4: Name 2 | G4: =SUM(C4:F4) -> 0 | H4: =G4/20 -> 0 | I4: =VLOOKUP(H4,Bewertungsmatrix!A3:C8, 2, 1) -> #N/A
A5: 3 | B5: Name 3 | G5: =SUM(C5:F5) -> 0 | H5: =G5/20 -> 0 | I5: =VLOOKUP(H5,Bewertungsmatrix!A4:C9, 2, 1) -> #N/A
G6: =SUM(G3:G5) -> 0 | H6: =G6/60 -> 0
H7: Gruppennnote | I7: =VLOOKUP(H6,Bewertungsmatrix!A2:C7, 2, 1) -> 6

Sheet Bewertungsmatrix
A1: Prozentwert | B1: Note numerisch | C1: Note verbal
A2: 0 | B2: 6 | C2: ungenügend
A3: 0.2 | B3: 5 | C3: mangelhaft
A4: 0.4 | B4: 4 | C4: ausreichend
A5: 0.6 | B5: 3 | C5: befriedigend
A6: 0.8 | B6: 2 | C6: gut
A7: 0.96 | B7: 1 | C7: sehr gut
